BEGIN:VCALENDAR
VERSION:2.0
PRODID:-//Grant County Oregon Chamber of Commerce - ECPv5.14.2.1//NONSGML v1.0//EN
CALSCALE:GREGORIAN
METHOD:PUBLISH
X-WR-CALNAME:Grant County Oregon Chamber of Commerce
X-ORIGINAL-URL:https://www.gcoregonlive.com
X-WR-CALDESC:Events for Grant County Oregon Chamber of Commerce
REFRESH-INTERVAL;VALUE=DURATION:PT1H
X-Robots-Tag:noindex
X-PUBLISHED-TTL:PT1H
BEGIN:VTIMEZONE
TZID:UTC
BEGIN:STANDARD
TZOFFSETFROM:+0000
TZOFFSETTO:+0000
TZNAME:UTC
DTSTART:20260101T000000
END:STANDARD
END:VTIMEZONE
BEGIN:VEVENT
DTSTART;TZID=UTC:20260501T023000
DTEND;TZID=UTC:20260501T180000
DTSTAMP:20260424T155738
CREATED:20260423T221212Z
LAST-MODIFIED:20260423T221212Z
UID:5910-1777602600-1777658400@www.gcoregonlive.com
SUMMARY:Creation Geology Conference
DESCRIPTION:
URL:https://www.gcoregonlive.com/calendar/creation-geology-conference/
LOCATION:Cornerstone Christian Fellowship
ATTACH;FMTTYPE=image/jpeg:https://www.gcoregonlive.com/wp-content/uploads/2026/04/Creation-Geology-conference-scaled.jpg
ORGANIZER;CN="Strawberry%20Mountain%20Home%20Schoolers":MAILTO:strawberrymountainhomeschoolers@protonmail.com0
END:VEVENT
END:VCALENDAR